BEGIN:VCALENDAR
VERSION:2.0
CALSCALE:GREGORIAN
PRODID:adamgibbons/ics
METHOD:PUBLISH
X-PUBLISHED-TTL:PT1H
BEGIN:VEVENT
UID:19801@offbeat.amsterdam
SUMMARY:Pavel Krisevich: Russian Prison Art
DTSTAMP:20260422T103151Z
DTSTART:20260423T180000Z
URL:https://offbeat.amsterdam/event/pavel-krisevich-russian-prison-art
GEO:52.3630433;4.8828596
LOCATION:De Balie - Kleine-Gartmanplantsoen 10\, 1017 RR Amsterdam
STATUS:CONFIRMED
CATEGORIES:alternative,amsterdam-centrum,books,exhibition,geopolitiek & men
	senrechten,leidseplein,performance
END:VEVENT
BEGIN:VEVENT
UID:18983@offbeat.amsterdam
SUMMARY:Oksana Zabuzhko: on Ukraine’s past and present
DTSTAMP:20260422T103151Z
DTSTART:20260503T130000Z
URL:https://offbeat.amsterdam/event/oksana-zabuzhko-on-ukraines-past-and-pr
	esent
GEO:52.3630433;4.8828596
LOCATION:De Balie - Kleine-Gartmanplantsoen 10\, 1017 RR Amsterdam
STATUS:CONFIRMED
CATEGORIES:amsterdam-centrum,books,democracy,geopolitiek & mensenrechten,id
	ee & verbeelding,leidseplein,stories
END:VEVENT
BEGIN:VEVENT
UID:19942@offbeat.amsterdam
SUMMARY:Stop Worrying and Love the Bomb?
DTSTAMP:20260422T103151Z
DTSTART:20260508T180000Z
URL:https://offbeat.amsterdam/event/stop-worrying-and-love-the-bomb
GEO:52.3630433;4.8828596
LOCATION:De Balie - Kleine-Gartmanplantsoen 10\, 1017 RR Amsterdam
STATUS:CONFIRMED
CATEGORIES:amsterdam-centrum,geopolitiek & mensenrechten,leidseplein
END:VEVENT
BEGIN:VEVENT
UID:20847@offbeat.amsterdam
SUMMARY:After the Iran War? The New Balance of Power in the Middle East
DTSTAMP:20260422T103151Z
DTSTART:20260512T180000Z
URL:https://offbeat.amsterdam/event/after-the-iran-war-the-new-balance-of-p
	ower-in-the-middle-east
GEO:52.3630433;4.8828596
LOCATION:De Balie - Kleine-Gartmanplantsoen 10\, 1017 RR Amsterdam
STATUS:CONFIRMED
CATEGORIES:geopolitiek & mensenrechten,leidseplein,amsterdam-centrum
END:VEVENT
BEGIN:VEVENT
UID:20849@offbeat.amsterdam
SUMMARY:Hoe werkt de wapenhandel?
DTSTAMP:20260422T103151Z
DTSTART:20260519T183000Z
URL:https://offbeat.amsterdam/event/hoe-werkt-de-wapenhandel
GEO:52.3630433;4.8828596
LOCATION:De Balie - Kleine-Gartmanplantsoen 10\, 1017 RR Amsterdam
STATUS:CONFIRMED
CATEGORIES:politiek & democratie,amsterdam-centrum,geopolitiek & mensenrech
	ten,leidseplein
END:VEVENT
BEGIN:VEVENT
UID:20656@offbeat.amsterdam
SUMMARY:‘Io sono Giorgia’ – the two faces of Meloni
DTSTAMP:20260422T103151Z
DTSTART:20260527T180000Z
URL:https://offbeat.amsterdam/event/io-sono-giorgia-the-two-faces-of-meloni
GEO:52.3630433;4.8828596
LOCATION:De Balie - Kleine-Gartmanplantsoen 10\, 1017 RR Amsterdam
STATUS:CONFIRMED
CATEGORIES:geopolitiek & mensenrechten,leidseplein,party,amsterdam-centrum
END:VEVENT
BEGIN:VEVENT
UID:20655@offbeat.amsterdam
SUMMARY:Welcome in the age of oligarchy
DTSTAMP:20260422T103151Z
DTSTART:20260529T180000Z
URL:https://offbeat.amsterdam/event/welcome-in-the-age-of-oligarchy
GEO:52.3630433;4.8828596
LOCATION:De Balie - Kleine-Gartmanplantsoen 10\, 1017 RR Amsterdam
STATUS:CONFIRMED
CATEGORIES:democracy,books,amsterdam-centrum,leidseplein,party,geopolitiek 
	& mensenrechten
END:VEVENT
END:VCALENDAR
